BEGIN:VCALENDAR
VERSION:2.0
PRODID:-//eventon.com NONSGML v1.0//EN
CALSCALE:GREGORIAN
METHOD:PUBLISH
BEGIN:VEVENT
UID:69e4eadb18ae6
DTSTAMP:20260419T144651Z
DTSTART:20260627T220000Z
DTEND:20260628T010000Z
LOCATION:Lavender Hill Farm 7354 Horton Bay Rd. North
SUMMARY:The Series at Lavender Hill Farm presents LEMON SQUEEZY
DESCRIPTION:Join Lavender Hill Farm on June 27th for an unforgettable even
 ing with Lemon Squeezy\,  the 2025 International Barbershop Quartet Champi
 ons known for their rich harmonies\,  playful musical style\,  and electrif
 ying live performances. Set inside our beautifully restored 1920s barn\,  t
 his concert is part of The Series at Lavender Hill Farm\,  an intimate sum
 mer[..]\nhttps://petoskeyarea.com/events/the-series-at-lavender-hill-farm-p
 resents-lemon-squeezy/
URL:https://petoskeyarea.com/events/the-series-at-lavender-hill-farm-presents-lemon-squeezy/
END:VEVENT
END:VCALENDAR