BEGIN:VCALENDAR
VERSION:2.0
PRODID:-//eventon.com NONSGML v1.0//EN
CALSCALE:GREGORIAN
METHOD:PUBLISH
BEGIN:VEVENT
UID:69e4d5dde13dc
DTSTAMP:20260419T131717Z
DTSTART:20260430T220000Z
DTEND:20260501T000000Z
LOCATION:Brandy's Harbortown 820 Front St\,  Petoskey\,  Michigan 49770\,  United States
SUMMARY:Singo at Brandy's
DESCRIPTION:SINGO at Brandy’s Harbortown! Join Brandy&#8217;s for a night
  of music\,  fun\,  and great food with SINGO—the musical twist on bingo!
  Free to all guests dining at the restaurant. Grab a bite\,  enjoy your fav
 orite drinks\,  and play along for a fun\,  interactive night at Brandy’s
  Harbortown. Bring your friends and[..]\nhttps://petoskeyarea.com/events/s
 ingo-at-brandys-2/
URL:https://petoskeyarea.com/events/singo-at-brandys-2/
END:VEVENT
END:VCALENDAR