BEGIN:VCALENDAR
VERSION:2.0
PRODID:-//eventon.com NONSGML v1.0//EN
CALSCALE:GREGORIAN
METHOD:PUBLISH
BEGIN:VEVENT
UID:69eb9e8c05756
DTSTAMP:20260424T164708Z
DTSTART:20260222T190000Z
DTEND:20260222T190000Z
LOCATION:Great Lakes Center for the Arts 800 Bay Harbor Dr\,  Bay Harbor\,  MI 49770\,  USA
SUMMARY:Salzburg Marionette Theater: The Sound of Music
DESCRIPTION:Step into a world where imagination knows no limits and art com
 es to life in the most captivating way. For over a century\,  the Salzburg 
 Marionette Theatre has enchanted audiences of all ages with its breathtakin
 g performances. Among its timeless productions is The Sound of Music\,  th
 e marionette stage version of[..]\nhttps://petoskeyarea.com/events/salzburg
 -marionette-theater-the-sound-of-music/
URL:https://petoskeyarea.com/events/salzburg-marionette-theater-the-sound-of-music/
END:VEVENT
END:VCALENDAR