BEGIN:VCALENDAR
VERSION:2.0
PRODID:-//eventon.com NONSGML v1.0//EN
CALSCALE:GREGORIAN
METHOD:PUBLISH
BEGIN:VEVENT
UID:69e4d69db999c
DTSTAMP:20260419T132029Z
DTSTART:20240831T140000Z
DTEND:20240831T210000Z
LOCATION:The Highlands Resort 600 Highland Rd\,  Harbor Springs\,  MI 49740\,  USA
SUMMARY:Chips in the Woods
DESCRIPTION:Chips in the Woods at The Highlands Bike Park  To round out th
 e end of summer\,  The Highlands annual event is back! Join us on the Satur
 day of Labor Day weekend for a fun-filled event on our bike trails. Picture
  this: a ride through the woods\,  surrounded by nature\,  and[..]\nhttps:/
 /petoskeyarea.com/events/chips-in-the-woods-2/
URL:https://petoskeyarea.com/events/chips-in-the-woods-2/
END:VEVENT
END:VCALENDAR