BEGIN:VCALENDAR
VERSION:2.0
PRODID:-//eventon.com NONSGML v1.0//EN
CALSCALE:GREGORIAN
METHOD:PUBLISH
BEGIN:VEVENT
UID:69e4d6e5a9ef6
DTSTAMP:20260419T132141Z
DTSTART:20240627T223000Z
DTEND:20240628T003000Z
LOCATION:Downtown Harbor Springs Harbor Springs\,  MI 49740\,  USA
SUMMARY:Harbor Springs Street Musique
DESCRIPTION:Downtown Harbor Springs comes alive with Street Musique on Thur
 sdays June 27 &#8211; August 22 from 6:30 PM &#8211; 8:30 PM. &nbsp;\nhttps
 ://petoskeyarea.com/events/harbor-springs-street-musique-2/
URL:https://petoskeyarea.com/events/harbor-springs-street-musique-2/
END:VEVENT
END:VCALENDAR