BEGIN:VCALENDAR
VERSION:2.0
PRODID:-//eventon.com NONSGML v1.0//EN
CALSCALE:GREGORIAN
METHOD:PUBLISH
BEGIN:VEVENT
UID:69e64a5652a4c
DTSTAMP:20260420T154630Z
DTSTART:20240517
DTEND:20240518
LOCATION:The Highlands Resort 600 Highland Rd\,  Harbor Springs\,  MI 49740\,  USA
SUMMARY:34th Zoo-de-Mack Bike Bash
DESCRIPTION:The Zoo-de-Mackinac is a weekend of huge parties with great ban
 ds\,  one of the most scenic bicycle rides in the country\,  a lot of sunsh
 ine\,  views of the mighty Mackinac Bridge\,  and one magical island. Entry
  Fee varies depending on time of registration: &#8211; 2024 &#8211;January 
 1 &#8211; Feb 29[..]\nhttps://petoskeyarea.com/events/34th-zoo-de-mack-bike
 -bash/
URL:https://petoskeyarea.com/events/34th-zoo-de-mack-bike-bash/
END:VEVENT
END:VCALENDAR