BEGIN:VCALENDAR
VERSION:2.0
PRODID:-//eventon.com NONSGML v1.0//EN
CALSCALE:GREGORIAN
METHOD:PUBLISH
BEGIN:VEVENT
UID:69e7771babecb
DTSTAMP:20260421T130947Z
DTSTART:20230804T190900Z
DTEND:20230804T190900Z
LOCATION:Gruler Gardens 1298 E Gruler Road\,  Petoskey
SUMMARY:Native Plant Sale
DESCRIPTION:Are you looking for native plants for your butterfly or rain ga
 rden? Gruler Gardens has got you covered at their Native Plant Sale! Choose
  from a wide selection of native plants that are both beautiful and functio
 nal in supporting insects\,  birds\,  and other wildlife. See more informat
 ion and our current[..]\nhttps://petoskeyarea.com/events/native-plant-sale/
URL:https://petoskeyarea.com/events/native-plant-sale/
END:VEVENT
END:VCALENDAR